BEGIN:VCALENDAR
VERSION:2.0
PRODID:icalendar-ruby
CALSCALE:GREGORIAN
METHOD:PUBLISH
BEGIN:VEVENT
DTSTAMP:20260421T083821Z
UID:10-376372@stskirilandmetodij.org
DTSTART:20260920T143000Z
DTEND:20260920T153000Z
CLASS:PUBLIC
CREATED:20260420T201311
DESCRIPTION:
LAST-MODIFIED:20260420T201311
LOCATION:Sts. Kiril i Metodij - Cedar Grove
SUMMARY:Sunday Liturgy
URL;VALUE=URI:https://stskirilandmetodij.org/events/sunday-liturgy/2026-09-
 20
ATTACH;FILENAME=DSC06526.JPG;FMTTYPE=image/jpeg:https://dq5pwpg1q8ru0.cloud
 front.net/2022/01/27/18/56/27/7a8e124f-7f31-4fb6-8bf9-e150dce3ad1c/DSC0652
 6.JPG
END:VEVENT
END:VCALENDAR
