BEGIN:VCALENDAR
VERSION:2.0
PRODID:icalendar-ruby
CALSCALE:GREGORIAN
METHOD:PUBLISH
BEGIN:VEVENT
DTSTAMP:20260425T144223Z
UID:77-381360@stskirilandmetodij.org
DTSTART:20260524T170000Z
DTEND:20260524T210000Z
CLASS:PUBLIC
CREATED:20260424T130501
DESCRIPTION:
LAST-MODIFIED:20260424T130501
LOCATION:Macedonian Church Hall 
SUMMARY:Hramova Slava
URL;VALUE=URI:https://stskirilandmetodij.org/events/hramova-slava/2026-05-2
 4
ATTACH;FILENAME=Screenshot-2026-04-24-130315.png;FMTTYPE=image/png:https://
 dq5pwpg1q8ru0.cloudfront.net/2026/04/24/17/05/00/a68273a5-78b0-4de4-a870-5
 bc3b0ec8d5e/Screenshot-2026-04-24-130315.png
END:VEVENT
END:VCALENDAR
