BEGIN:VCALENDAR
VERSION:2.0
PRODID:icalendar-ruby
CALSCALE:GREGORIAN
METHOD:PUBLISH
BEGIN:VEVENT
DTSTAMP:20260425T144646Z
UID:78-381362@stskirilandmetodij.org
DTSTART:20260503T170000Z
DTEND:20260503T210000Z
CLASS:PUBLIC
CREATED:20260424T130807
DESCRIPTION:
LAST-MODIFIED:20260424T130807
LOCATION:St. Georgij Monastery 
SUMMARY:Пикник по повод Ѓурѓовден
URL;VALUE=URI:https://stskirilandmetodij.org/events/78/2026-05-03
ATTACH;FILENAME=Screenshot-2026-04-24-130738.png;FMTTYPE=image/png:https://
 dq5pwpg1q8ru0.cloudfront.net/2026/04/24/17/08/07/e1e68c96-12df-4281-a156-f
 5f665ac8a47/Screenshot-2026-04-24-130738.png
END:VEVENT
END:VCALENDAR
